BEGIN:VCALENDAR
PRODID:-//AT Content Types//AT Event//EN
VERSION:2.0
METHOD:PUBLISH
BEGIN:VEVENT
DTSTAMP:20260422T082607Z
CREATED:20240216T121702Z
UID:ATEvent-e28f3aaba4434167b951fa7a1ef937df
LAST-MODIFIED:20240328T161202Z
SUMMARY:Virtual Drop In Session
DTSTART:20240312T170000Z
DTEND:20240312T190000Z
DESCRIPTION:To book a slot please email EducationConsultation@midlothi
 an.gov.uk
CLASS:PUBLIC
END:VEVENT
END:VCALENDAR
