BEGIN:VCALENDAR
PRODID:-//AT Content Types//AT Event//EN
VERSION:2.0
METHOD:PUBLISH
BEGIN:VEVENT
DTSTAMP:20260422T082025Z
CREATED:20240216T121702Z
UID:ATEvent-f344a85a519c4a8c850a2e64bc86c849
LAST-MODIFIED:20240328T161202Z
SUMMARY:Virtual Drop In Session
DTSTART:20240312T140000Z
DTEND:20240312T160000Z
DESCRIPTION:To book a slot please email EducationConsultation@midlothi
 an.gov.uk
CLASS:PUBLIC
END:VEVENT
END:VCALENDAR
