BEGIN:VCALENDAR
PRODID:-//AT Content Types//AT Event//EN
VERSION:2.0
METHOD:PUBLISH
BEGIN:VEVENT
DTSTAMP:20260422T082328Z
CREATED:20240229T124443Z
UID:ATEvent-d00d161a6ad545fea127c606f54d8b7d
LAST-MODIFIED:20240328T161202Z
SUMMARY:Additional Formal Public Meeting
DTSTART:20240325T190000Z
DTEND:20240325T210000Z
DESCRIPTION:This meeting is being held at Lasswade High School
CLASS:PUBLIC
END:VEVENT
END:VCALENDAR
