BEGIN:VCALENDAR
PRODID:-//AT Content Types//AT Event//EN
VERSION:2.0
METHOD:PUBLISH
BEGIN:VEVENT
DTSTAMP:20260419T120452Z
CREATED:20240723T100315Z
UID:ATEvent-93651396528d4b8a94a32c242e52b6fc
LAST-MODIFIED:20251103T123713Z
SUMMARY:Public Formal Meeting
DTSTART:20251119T183000Z
DTEND:20251119T200000Z
DESCRIPTION:This meeting is being held at Lasswade High School
CLASS:PUBLIC
END:VEVENT
END:VCALENDAR
