BEGIN:VCALENDAR
PRODID:-//AT Content Types//AT Event//EN
VERSION:2.0
METHOD:PUBLISH
BEGIN:VEVENT
DTSTAMP:20260422T004502Z
CREATED:20260331T110033Z
UID:ATEvent-f6ec1235ad984974bd76e45cd489b4bc
LAST-MODIFIED:20260421T123213Z
SUMMARY:Virtual Drop-In Session
DTSTART:20260513T130000Z
DTEND:20260513T150000Z
DESCRIPTION:To book a slot please email educationconsultation@midlothi
 an.gov.uk
CLASS:PUBLIC
END:VEVENT
END:VCALENDAR
