BEGIN:VCALENDAR
PRODID:-//AT Content Types//AT Event//EN
VERSION:2.0
METHOD:PUBLISH
BEGIN:VEVENT
DTSTAMP:20260422T004615Z
CREATED:20260331T110033Z
UID:ATEvent-54288278c67c467ead5cc25df4e71cc6
LAST-MODIFIED:20260421T123213Z
SUMMARY:Virtual Drop-In Session
DTSTART:20260526T160000Z
DTEND:20260526T180000Z
DESCRIPTION:To book a slot please email educationconsultation@midlothi
 an.gov.uk
CLASS:PUBLIC
END:VEVENT
END:VCALENDAR
