BEGIN:VCALENDAR
PRODID:-//AT Content Types//AT Event//EN
VERSION:2.0
METHOD:PUBLISH
BEGIN:VEVENT
DTSTAMP:20260422T004538Z
CREATED:20260331T110033Z
UID:ATEvent-5262fd7262574dd2ac739a11dcd72ff8
LAST-MODIFIED:20260421T123213Z
SUMMARY:Virtual Drop-In Session
DTSTART:20260513T160000Z
DTEND:20260513T180000Z
DESCRIPTION:To book a slot please email educationconsultation@midlothi
 an.gov.uk
CLASS:PUBLIC
END:VEVENT
END:VCALENDAR
