BEGIN:VCALENDAR
PRODID:-//AT Content Types//AT Event//EN
VERSION:2.0
METHOD:PUBLISH
BEGIN:VEVENT
DTSTAMP:20260422T004622Z
CREATED:20260331T110033Z
UID:ATEvent-ba5cba4e3f4144d5957a92163cf6c3df
LAST-MODIFIED:20260421T123213Z
SUMMARY:Virtual Drop-In Session
DTSTART:20260526T130000Z
DTEND:20260526T150000Z
DESCRIPTION:To book a slot please email educationconsultation@midlothi
 an.gov.uk
CLASS:PUBLIC
END:VEVENT
END:VCALENDAR
