BEGIN:VCALENDAR
PRODID:-//AT Content Types//AT Event//EN
VERSION:2.0
METHOD:PUBLISH
BEGIN:VEVENT
DTSTAMP:20260422T004632Z
CREATED:20260401T085527Z
UID:ATEvent-33b44fa90abc48188a3723d68c433df9
LAST-MODIFIED:20260421T123213Z
SUMMARY:Public Meeting
DTSTART:20260601T173000Z
DTEND:20260601T183000Z
DESCRIPTION:This public meeting will be held at Sacred Heart RC Primar
 y School.
CLASS:PUBLIC
END:VEVENT
END:VCALENDAR
