BEGIN:VCALENDAR
PRODID:-//AT Content Types//AT Event//EN
VERSION:2.0
METHOD:PUBLISH
BEGIN:VEVENT
DTSTAMP:20260422T004714Z
CREATED:20260331T110033Z
UID:ATEvent-83e263342be64cb2bc48b5f626bae613
LAST-MODIFIED:20260421T123213Z
SUMMARY:Public Meeting
DTSTART:20260519T173000Z
DTEND:20260519T183000Z
DESCRIPTION:This public meeting will be held at Woodburn Primary Schoo
 l.
CLASS:PUBLIC
END:VEVENT
END:VCALENDAR
